Package: alabaster.base Version: 1.8.0 Command: /Library/Frameworks/R.framework/Resources/bin/R CMD build --keep-empty-dirs --no-resave-data alabaster.base StartedAt: 2025-04-21 15:54:47 -0400 (Mon, 21 Apr 2025) EndedAt: 2025-04-21 15:56:29 -0400 (Mon, 21 Apr 2025) EllapsedTime: 101.8 seconds RetCode: 0 Status: OK PackageFile: alabaster.base_1.8.0.tar.gz PackageFileSize: 329.8 KiB