Package: agilp Version: 3.40.0 Command: /Library/Frameworks/R.framework/Resources/bin/R CMD INSTALL agilp StartedAt: 2025-05-01 15:02:55 -0400 (Thu, 01 May 2025) EndedAt: 2025-05-01 15:03:15 -0400 (Thu, 01 May 2025) EllapsedTime: 20.3 seconds RetCode: 0 Status: OK