Package: agilp Version: 3.40.0 Command: rm -rf agilp.buildbin-libdir && mkdir agilp.buildbin-libdir && /Users/biocbuild/BBS/utils/build-universal.sh agilp_3.40.0.tar.gz /Library/Frameworks/R.framework/Resources/bin/R agilp.buildbin-libdir StartedAt: 2025-05-02 12:22:17 -0400 (Fri, 02 May 2025) EndedAt: 2025-05-02 12:24:34 -0400 (Fri, 02 May 2025) EllapsedTime: 137.1 seconds RetCode: 0 Status: OK PackageFile: agilp_3.40.0.tgz PackageFileSize: 488.5 KiB