Package: agilp Version: 3.40.0 Command: /home/biocbuild/R/R/bin/R CMD check --install=check:agilp.install-out.txt --library=/home/biocbuild/R/R/site-library --no-vignettes --timings agilp_3.40.0.tar.gz StartedAt: 2025-05-06 05:45:47 -0000 (Tue, 06 May 2025) EndedAt: 2025-05-06 05:46:03 -0000 (Tue, 06 May 2025) EllapsedTime: 16.0 seconds RetCode: 0 Status: OK CheckDir: agilp.Rcheck Warnings: 0