Package: agilp Version: 3.40.0 Command: rm -rf agilp.buildbin-libdir && mkdir agilp.buildbin-libdir && /Users/biocbuild/BBS/utils/build-universal.sh agilp_3.40.0.tar.gz /Library/Frameworks/R.framework/Resources/bin/R agilp.buildbin-libdir StartedAt: 2025-04-21 22:25:37 -0400 (Mon, 21 Apr 2025) EndedAt: 2025-04-21 22:25:39 -0400 (Mon, 21 Apr 2025) EllapsedTime: 2.0 seconds RetCode: 0 Status: OK PackageFile: agilp_3.40.0.tgz PackageFileSize: 490.7 KiB