Package: aggregateBioVar Version: 1.18.0 Command: /home/biocbuild/bbs-3.21-bioc/R/bin/R CMD INSTALL aggregateBioVar StartedAt: 2025-10-08 15:19:06 -0400 (Wed, 08 Oct 2025) EndedAt: 2025-10-08 15:19:29 -0400 (Wed, 08 Oct 2025) EllapsedTime: 22.9 seconds RetCode: 0 Status: OK