Package: aggregateBioVar Version: 1.18.0 Command: /home/biocbuild/bbs-3.21-bioc/R/bin/R CMD build --keep-empty-dirs --no-resave-data aggregateBioVar StartedAt: 2025-10-08 16:08:28 -0400 (Wed, 08 Oct 2025) EndedAt: 2025-10-08 16:09:51 -0400 (Wed, 08 Oct 2025) EllapsedTime: 83.1 seconds RetCode: 0 Status: OK PackageFile: aggregateBioVar_1.18.0.tar.gz PackageFileSize: 1.2 MiB