Package: aggregateBioVar Version: 1.18.0 Command: /Library/Frameworks/R.framework/Resources/bin/R CMD INSTALL aggregateBioVar StartedAt: 2025-07-17 16:08:44 -0400 (Thu, 17 Jul 2025) EndedAt: 2025-07-17 16:09:12 -0400 (Thu, 17 Jul 2025) EllapsedTime: 28.0 seconds RetCode: 0 Status: OK