Package: affycoretools Version: 1.78.0 Command: /home/biocbuild/R/R/bin/R CMD INSTALL affycoretools StartedAt: 2025-01-30 20:52:36 -0000 (Thu, 30 Jan 2025) EndedAt: 2025-01-30 20:53:49 -0000 (Thu, 30 Jan 2025) EllapsedTime: 72.9 seconds RetCode: 0 Status: OK