Package: affycoretools Version: 1.80.0 Command: chmod a+r affycoretools -R && E:\biocbuild\bbs-3.21-bioc\R\bin\R.exe CMD build --keep-empty-dirs --no-resave-data affycoretools StartedAt: 2025-08-14 17:16:40 -0400 (Thu, 14 Aug 2025) EndedAt: 2025-08-14 17:19:12 -0400 (Thu, 14 Aug 2025) EllapsedTime: 151.3 seconds RetCode: 0 Status: OK PackageFile: affycoretools_1.80.0.tar.gz PackageFileSize: 6.588 MiB