Package: affycoretools Version: 1.78.0 Command: /home/biocbuild/R/R/bin/R CMD check --install=check:affycoretools.install-out.txt --library=/home/biocbuild/R/R/site-library --no-vignettes --timings affycoretools_1.78.0.tar.gz StartedAt: 2024-11-20 05:00:43 -0000 (Wed, 20 Nov 2024) EndedAt: 2024-11-20 05:10:12 -0000 (Wed, 20 Nov 2024) EllapsedTime: 569.1 seconds RetCode: 0 Status: OK CheckDir: affycoretools.Rcheck Warnings: 0