Package: affycomp Version: 1.82.0 Command: F:\biocbuild\bbs-3.20-bioc\R\bin\R.exe CMD check --no-multiarch --install=check:affycomp.install-out.txt --library=F:\biocbuild\bbs-3.20-bioc\R\library --no-vignettes --timings affycomp_1.82.0.tar.gz StartedAt: 2025-01-02 22:49:34 -0500 (Thu, 02 Jan 2025) EndedAt: 2025-01-02 22:50:19 -0500 (Thu, 02 Jan 2025) EllapsedTime: 44.9 seconds RetCode: 0 Status: OK CheckDir: affycomp.Rcheck Warnings: 0