Package: affycomp Version: 1.84.0 Command: /home/biocbuild/bbs-3.21-bioc/R/bin/R CMD build --keep-empty-dirs --no-resave-data affycomp StartedAt: 2025-10-15 16:07:28 -0400 (Wed, 15 Oct 2025) EndedAt: 2025-10-15 16:07:39 -0400 (Wed, 15 Oct 2025) EllapsedTime: 11.0 seconds RetCode: 0 Status: OK PackageFile: affycomp_1.84.0.tar.gz PackageFileSize: 7.98 MiB