Package: affyPLM Version: 1.84.0 Command: /Library/Frameworks/R.framework/Resources/bin/R CMD INSTALL affyPLM StartedAt: 2025-05-05 15:27:11 -0400 (Mon, 05 May 2025) EndedAt: 2025-05-05 15:27:57 -0400 (Mon, 05 May 2025) EllapsedTime: 46.5 seconds RetCode: 0 Status: OK