Package: affyPLM Version: 1.84.0 Command: /Library/Frameworks/R.framework/Resources/bin/R CMD check --install=check:affyPLM.install-out.txt --library=/Library/Frameworks/R.framework/Resources/library --no-vignettes --timings affyPLM_1.84.0.tar.gz StartedAt: 2025-05-05 23:33:49 -0400 (Mon, 05 May 2025) EndedAt: 2025-05-05 23:39:28 -0400 (Mon, 05 May 2025) EllapsedTime: 339.7 seconds RetCode: 0 Status: OK CheckDir: affyPLM.Rcheck Warnings: 0