Package: affyPLM Version: 1.84.0 Command: /Library/Frameworks/R.framework/Resources/bin/R CMD build --keep-empty-dirs --no-resave-data affyPLM StartedAt: 2025-05-05 16:55:15 -0400 (Mon, 05 May 2025) EndedAt: 2025-05-05 16:59:35 -0400 (Mon, 05 May 2025) EllapsedTime: 260.4 seconds RetCode: 0 Status: OK PackageFile: affyPLM_1.84.0.tar.gz PackageFileSize: 6.287 MiB