Package: affyPLM Version: 1.84.0 Command: rm -rf affyPLM.buildbin-libdir && mkdir affyPLM.buildbin-libdir && /Users/biocbuild/BBS/utils/build-universal.sh affyPLM_1.84.0.tar.gz /Library/Frameworks/R.framework/Resources/bin/R affyPLM.buildbin-libdir StartedAt: 2025-05-06 12:05:44 -0400 (Tue, 06 May 2025) EndedAt: 2025-05-06 12:06:37 -0400 (Tue, 06 May 2025) EllapsedTime: 52.9 seconds RetCode: 0 Status: OK PackageFile: affyPLM_1.84.0.tgz PackageFileSize: 4.502 MiB