Package: affyPLM Version: 1.84.0 Command: /Library/Frameworks/R.framework/Resources/bin/R CMD INSTALL affyPLM StartedAt: 2025-05-08 15:39:52 -0400 (Thu, 08 May 2025) EndedAt: 2025-05-08 15:40:16 -0400 (Thu, 08 May 2025) EllapsedTime: 23.5 seconds RetCode: 0 Status: OK