Package: affxparser Version: 1.78.0 Command: /Library/Frameworks/R.framework/Resources/bin/R CMD check --install=check:affxparser.install-out.txt --library=/Library/Frameworks/R.framework/Resources/library --no-vignettes --timings affxparser_1.78.0.tar.gz StartedAt: 2025-01-02 23:19:54 -0500 (Thu, 02 Jan 2025) EndedAt: 2025-01-02 23:21:55 -0500 (Thu, 02 Jan 2025) EllapsedTime: 121.7 seconds RetCode: 0 Status: WARNINGS CheckDir: affxparser.Rcheck Warnings: 2