Package: affxparser Version: 1.80.0 Command: /Library/Frameworks/R.framework/Resources/bin/R CMD check --install=check:affxparser.install-out.txt --library=/Library/Frameworks/R.framework/Resources/library --no-vignettes --timings affxparser_1.80.0.tar.gz StartedAt: 2025-05-16 11:15:16 -0400 (Fri, 16 May 2025) EndedAt: 2025-05-16 11:16:13 -0400 (Fri, 16 May 2025) EllapsedTime: 57.3 seconds RetCode: 0 Status: WARNINGS CheckDir: affxparser.Rcheck Warnings: 2