Package: affxparser Version: 1.80.0 Command: /Library/Frameworks/R.framework/Resources/bin/R CMD build --keep-empty-dirs --no-resave-data affxparser StartedAt: 2025-05-15 18:40:19 -0400 (Thu, 15 May 2025) EndedAt: 2025-05-15 18:40:22 -0400 (Thu, 15 May 2025) EllapsedTime: 2.2 seconds RetCode: 0 Status: OK PackageFile: affxparser_1.80.0.tar.gz PackageFileSize: 782.8 KiB