Package: affxparser Version: 1.80.0 Command: rm -rf affxparser.buildbin-libdir && mkdir affxparser.buildbin-libdir && /Users/biocbuild/BBS/utils/build-universal.sh affxparser_1.80.0.tar.gz /Library/Frameworks/R.framework/Resources/bin/R affxparser.buildbin-libdir StartedAt: 2025-05-17 14:20:02 -0400 (Sat, 17 May 2025) EndedAt: 2025-05-17 14:22:00 -0400 (Sat, 17 May 2025) EllapsedTime: 117.5 seconds RetCode: 0 Status: OK PackageFile: affxparser_1.80.0.tgz PackageFileSize: 1.577 MiB