Package: adSplit Version: 1.76.0 Command: chmod a+r adSplit -R && F:\biocbuild\bbs-3.20-bioc\R\bin\R.exe CMD build --keep-empty-dirs --no-resave-data adSplit StartedAt: 2025-01-02 17:18:53 -0500 (Thu, 02 Jan 2025) EndedAt: 2025-01-02 17:21:26 -0500 (Thu, 02 Jan 2025) EllapsedTime: 152.8 seconds RetCode: 0 Status: OK PackageFile: adSplit_1.76.0.tar.gz PackageFileSize: 288 KiB