Package: abseqR Version: 1.26.0 Command: /Library/Frameworks/R.framework/Resources/bin/R CMD INSTALL abseqR StartedAt: 2025-05-05 15:26:11 -0400 (Mon, 05 May 2025) EndedAt: 2025-05-05 15:26:27 -0400 (Mon, 05 May 2025) EllapsedTime: 15.6 seconds RetCode: 0 Status: OK