Package: aCGH Version: 1.84.0 Command: /home/biocbuild/R/R/bin/R CMD INSTALL aCGH StartedAt: 2025-02-10 20:55:31 -0000 (Mon, 10 Feb 2025) EndedAt: 2025-02-10 20:55:45 -0000 (Mon, 10 Feb 2025) EllapsedTime: 14.1 seconds RetCode: 0 Status: OK