Package: aCGH Version: 1.84.0 Command: /home/biocbuild/R/R/bin/R CMD build --keep-empty-dirs --no-resave-data aCGH StartedAt: 2025-02-03 21:31:54 -0000 (Mon, 03 Feb 2025) EndedAt: 2025-02-03 21:32:30 -0000 (Mon, 03 Feb 2025) EllapsedTime: 36.0 seconds RetCode: 0 Status: OK PackageFile: aCGH_1.84.0.tar.gz PackageFileSize: 2.212 MiB