Package: aCGH Version: 1.84.0 Command: rm -rf aCGH.buildbin-libdir && mkdir aCGH.buildbin-libdir && F:\biocbuild\bbs-3.20-bioc\R\bin\R.exe CMD INSTALL --build --library=aCGH.buildbin-libdir aCGH_1.84.0.tar.gz StartedAt: 2025-01-31 08:06:07 -0500 (Fri, 31 Jan 2025) EndedAt: 2025-01-31 08:07:04 -0500 (Fri, 31 Jan 2025) EllapsedTime: 56.3 seconds RetCode: 0 Status: OK PackageFile: aCGH_1.84.0.zip PackageFileSize: 2.44 MiB