Package: aCGH Version: 1.84.0 Command: /Library/Frameworks/R.framework/Resources/bin/R CMD INSTALL aCGH StartedAt: 2025-02-03 16:25:40 -0500 (Mon, 03 Feb 2025) EndedAt: 2025-02-03 16:26:05 -0500 (Mon, 03 Feb 2025) EllapsedTime: 24.8 seconds RetCode: 0 Status: OK