Package: aCGH Version: 1.84.0 Command: /Library/Frameworks/R.framework/Resources/bin/R CMD build --keep-empty-dirs --no-resave-data aCGH StartedAt: 2025-02-03 16:58:09 -0500 (Mon, 03 Feb 2025) EndedAt: 2025-02-03 16:59:20 -0500 (Mon, 03 Feb 2025) EllapsedTime: 70.7 seconds RetCode: 0 Status: OK PackageFile: aCGH_1.84.0.tar.gz PackageFileSize: 2.219 MiB