Package: a4Preproc Version: 1.54.0 Command: /home/biocbuild/R/R/bin/R CMD INSTALL a4Preproc StartedAt: 2025-01-30 20:06:40 -0000 (Thu, 30 Jan 2025) EndedAt: 2025-01-30 20:07:04 -0000 (Thu, 30 Jan 2025) EllapsedTime: 23.8 seconds RetCode: 0 Status: OK