Package: a4Preproc Version: 1.56.0 Command: rm -rf a4Preproc.buildbin-libdir && mkdir a4Preproc.buildbin-libdir && E:\biocbuild\bbs-3.21-bioc\R\bin\R.exe CMD INSTALL --build --library=a4Preproc.buildbin-libdir a4Preproc_1.56.0.tar.gz StartedAt: 2025-08-15 08:43:01 -0400 (Fri, 15 Aug 2025) EndedAt: 2025-08-15 08:43:15 -0400 (Fri, 15 Aug 2025) EllapsedTime: 14.3 seconds RetCode: 0 Status: OK PackageFile: a4Preproc_1.56.0.zip PackageFileSize: 300.2 KiB