Package: a4Core Version: 1.58.0 Command: /home/biocbuild/bbs-3.22-bioc/R/bin/R CMD INSTALL a4Core StartedAt: 2025-11-05 15:21:03 -0500 (Wed, 05 Nov 2025) EndedAt: 2025-11-05 15:21:09 -0500 (Wed, 05 Nov 2025) EllapsedTime: 6.4 seconds RetCode: 0 Status: OK