Package: a4Core Version: 1.58.0 Command: /home/biocbuild/bbs-3.22-bioc/R/bin/R CMD build --keep-empty-dirs --no-resave-data --md5 a4Core StartedAt: 2025-11-05 16:16:54 -0500 (Wed, 05 Nov 2025) EndedAt: 2025-11-05 16:17:03 -0500 (Wed, 05 Nov 2025) EllapsedTime: 9.0 seconds RetCode: 0 Status: OK PackageFile: a4Core_1.58.0.tar.gz PackageFileSize: 290.8 KiB