Package: a4Core Version: 1.54.0 Command: /Library/Frameworks/R.framework/Resources/bin/R CMD check --install=check:a4Core.install-out.txt --library=/Library/Frameworks/R.framework/Resources/library --no-vignettes --timings a4Core_1.54.0.tar.gz StartedAt: 2025-01-30 23:58:40 -0500 (Thu, 30 Jan 2025) EndedAt: 2025-01-31 00:00:27 -0500 (Fri, 31 Jan 2025) EllapsedTime: 106.9 seconds RetCode: 0 Status: OK CheckDir: a4Core.Rcheck Warnings: 0