Package: a4 Version: 1.56.0 Command: /Library/Frameworks/R.framework/Resources/bin/R CMD check --install=check:a4.install-out.txt --library=/Library/Frameworks/R.framework/Resources/library --no-vignettes --timings a4_1.56.0.tar.gz StartedAt: 2025-05-22 23:38:35 -0400 (Thu, 22 May 2025) EndedAt: 2025-05-22 23:40:10 -0400 (Thu, 22 May 2025) EllapsedTime: 94.4 seconds RetCode: 0 Status: OK CheckDir: a4.Rcheck Warnings: 0