Package: a4 Version: 1.56.0 Command: /Library/Frameworks/R.framework/Resources/bin/R CMD build --keep-empty-dirs --no-resave-data a4 StartedAt: 2025-05-22 16:58:06 -0400 (Thu, 22 May 2025) EndedAt: 2025-05-22 17:02:29 -0400 (Thu, 22 May 2025) EllapsedTime: 263.4 seconds RetCode: 0 Status: OK PackageFile: a4_1.56.0.tar.gz PackageFileSize: 1.188 MiB