Package: YAPSA Version: 1.32.0 Command: /home/biocbuild/R/R/bin/R CMD INSTALL YAPSA StartedAt: 2025-01-30 20:46:10 -0000 (Thu, 30 Jan 2025) EndedAt: 2025-01-30 20:47:26 -0000 (Thu, 30 Jan 2025) EllapsedTime: 76.1 seconds RetCode: 0 Status: OK