Package: Xeva Version: 1.22.0 Command: /home/biocbuild/R/R/bin/R CMD check --install=check:Xeva.install-out.txt --library=/home/biocbuild/R/R/site-library --no-vignettes --timings Xeva_1.22.0.tar.gz StartedAt: 2025-01-31 11:30:30 -0000 (Fri, 31 Jan 2025) EndedAt: 2025-01-31 11:35:18 -0000 (Fri, 31 Jan 2025) EllapsedTime: 288.1 seconds RetCode: 1 Status: ERROR CheckDir: Xeva.Rcheck Warnings: NA