Package: Xeva Version: 1.24.0 Command: /Library/Frameworks/R.framework/Resources/bin/R CMD INSTALL Xeva StartedAt: 2025-05-26 16:50:14 -0400 (Mon, 26 May 2025) EndedAt: 2025-05-26 16:51:33 -0400 (Mon, 26 May 2025) EllapsedTime: 79.4 seconds RetCode: 0 Status: OK