Package: XeniumIO Version: 1.2.0 Command: /home/biocbuild/bbs-3.22-bioc/R/bin/R CMD INSTALL XeniumIO StartedAt: 2025-11-20 16:28:59 -0500 (Thu, 20 Nov 2025) EndedAt: 2025-11-20 16:29:27 -0500 (Thu, 20 Nov 2025) EllapsedTime: 28.2 seconds RetCode: 0 Status: OK