Package: XeniumIO Version: 1.2.0 Command: /home/biocbuild/bbs-3.22-bioc/R/bin/R CMD check --install=check:XeniumIO.install-out.txt --library=/home/biocbuild/bbs-3.22-bioc/R/site-library --timings XeniumIO_1.2.0.tar.gz StartedAt: 2025-11-21 05:57:17 -0500 (Fri, 21 Nov 2025) EndedAt: 2025-11-21 06:00:38 -0500 (Fri, 21 Nov 2025) EllapsedTime: 200.2 seconds RetCode: 0 Status: OK CheckDir: XeniumIO.Rcheck Warnings: 0