Package: XeniumIO Version: 1.2.0 Command: /home/biocbuild/bbs-3.22-bioc/R/bin/R CMD build --keep-empty-dirs --no-resave-data --md5 XeniumIO StartedAt: 2025-11-20 21:38:19 -0500 (Thu, 20 Nov 2025) EndedAt: 2025-11-20 21:38:57 -0500 (Thu, 20 Nov 2025) EllapsedTime: 38.0 seconds RetCode: 0 Status: OK PackageFile: XeniumIO_1.2.0.tar.gz PackageFileSize: 229.9 KiB