Package: XeniumIO Version: 1.0.0 Command: /home/biocbuild/bbs-3.21-bioc/R/bin/R CMD INSTALL XeniumIO StartedAt: 2025-10-08 15:36:22 -0400 (Wed, 08 Oct 2025) EndedAt: 2025-10-08 15:36:48 -0400 (Wed, 08 Oct 2025) EllapsedTime: 25.8 seconds RetCode: 0 Status: OK