Package: XeniumIO Version: 1.0.0 Command: /home/biocbuild/bbs-3.21-bioc/R/bin/R CMD build --keep-empty-dirs --no-resave-data XeniumIO StartedAt: 2025-10-08 20:31:05 -0400 (Wed, 08 Oct 2025) EndedAt: 2025-10-08 20:31:43 -0400 (Wed, 08 Oct 2025) EllapsedTime: 38.0 seconds RetCode: 0 Status: OK PackageFile: XeniumIO_1.0.0.tar.gz PackageFileSize: 228.9 KiB