Package: XeniumIO Version: 1.0.0 Command: /Library/Frameworks/R.framework/Resources/bin/R CMD build --keep-empty-dirs --no-resave-data XeniumIO StartedAt: 2025-10-07 12:35:48 -0400 (Tue, 07 Oct 2025) EndedAt: 2025-10-07 12:36:48 -0400 (Tue, 07 Oct 2025) EllapsedTime: 59.7 seconds RetCode: 0 Status: OK PackageFile: XeniumIO_1.0.0.tar.gz PackageFileSize: 228.8 KiB