Package: XVector Version: 0.48.0 Command: chmod a+r XVector -R && E:\biocbuild\bbs-3.21-bioc\R\bin\R.exe CMD build --keep-empty-dirs --no-resave-data XVector StartedAt: 2025-08-14 23:00:10 -0400 (Thu, 14 Aug 2025) EndedAt: 2025-08-14 23:00:21 -0400 (Thu, 14 Aug 2025) EllapsedTime: 11.2 seconds RetCode: 0 Status: OK PackageFile: XVector_0.48.0.tar.gz PackageFileSize: 66.31 KiB