Package: XVector Version: 0.48.0 Command: rm -rf XVector.buildbin-libdir && mkdir XVector.buildbin-libdir && E:\biocbuild\bbs-3.21-bioc\R\bin\R.exe CMD INSTALL --build --library=XVector.buildbin-libdir XVector_0.48.0.tar.gz StartedAt: 2025-08-15 10:35:24 -0400 (Fri, 15 Aug 2025) EndedAt: 2025-08-15 10:36:29 -0400 (Fri, 15 Aug 2025) EllapsedTime: 65.0 seconds RetCode: 0 Status: OK PackageFile: XVector_0.48.0.zip PackageFileSize: 669.1 KiB