Package: XVector Version: 0.48.0 Maintainer: Hervé Pagès MaintainerEmail: hpages.on.github at gmail.com git_url: https://git.bioconductor.org/packages/XVector git_branch: RELEASE_3_21 git_last_commit: d4499c2 git_last_commit_date: 2025-04-15 10:24:13 -0400 (Tue, 15 Apr 2025)