Package: XNAString Version: 1.14.0 Command: /Library/Frameworks/R.framework/Resources/bin/R CMD INSTALL XNAString StartedAt: 2025-01-02 16:37:46 -0500 (Thu, 02 Jan 2025) EndedAt: 2025-01-02 16:41:03 -0500 (Thu, 02 Jan 2025) EllapsedTime: 197.0 seconds RetCode: 0 Status: OK