Package: XDE Version: 2.52.0 Command: /home/biocbuild/bbs-3.20-bioc/R/bin/R CMD INSTALL XDE StartedAt: 2025-01-30 15:49:55 -0500 (Thu, 30 Jan 2025) EndedAt: 2025-01-30 15:51:07 -0500 (Thu, 30 Jan 2025) EllapsedTime: 71.5 seconds RetCode: 0 Status: OK